BEGIN:VCALENDAR
VERSION:2.0
PRODID:-//Great Northern Development Corporation - ECPv6.15.20//NONSGML v1.0//EN
CALSCALE:GREGORIAN
METHOD:PUBLISH
X-WR-CALNAME:Great Northern Development Corporation
X-ORIGINAL-URL:https://gndc.org
X-WR-CALDESC:Events for Great Northern Development Corporation
REFRESH-INTERVAL;VALUE=DURATION:PT1H
X-Robots-Tag:noindex
X-PUBLISHED-TTL:PT1H
BEGIN:VTIMEZONE
TZID:America/Denver
BEGIN:DAYLIGHT
TZOFFSETFROM:-0700
TZOFFSETTO:-0600
TZNAME:MDT
DTSTART:20210314T090000
END:DAYLIGHT
BEGIN:STANDARD
TZOFFSETFROM:-0600
TZOFFSETTO:-0700
TZNAME:MST
DTSTART:20211107T080000
END:STANDARD
BEGIN:DAYLIGHT
TZOFFSETFROM:-0700
TZOFFSETTO:-0600
TZNAME:MDT
DTSTART:20220313T090000
END:DAYLIGHT
BEGIN:STANDARD
TZOFFSETFROM:-0600
TZOFFSETTO:-0700
TZNAME:MST
DTSTART:20221106T080000
END:STANDARD
BEGIN:DAYLIGHT
TZOFFSETFROM:-0700
TZOFFSETTO:-0600
TZNAME:MDT
DTSTART:20230312T090000
END:DAYLIGHT
BEGIN:STANDARD
TZOFFSETFROM:-0600
TZOFFSETTO:-0700
TZNAME:MST
DTSTART:20231105T080000
END:STANDARD
END:VTIMEZONE
BEGIN:VEVENT
DTSTART;VALUE=DATE:20220905
DTEND;VALUE=DATE:20220906
DTSTAMP:20260423T064255
CREATED:20220113T214309Z
LAST-MODIFIED:20220113T220527Z
UID:1230-1662336000-1662422399@gndc.org
SUMMARY:Office Closed
DESCRIPTION:Our office will be closed Monday\, September 5th in observance of Labor Day.
URL:https://gndc.org/gndc-event/office-closed-5/
ATTACH;FMTTYPE=image/png:https://gndc.org/wp-content/uploads/2022/01/Blue-Red-and-White-Illustration-Greeting-Labor-Day-Facebook-Post.png
END:VEVENT
BEGIN:VEVENT
DTSTART;TZID=America/Denver:20220913T083000
DTEND;TZID=America/Denver:20220913T123000
DTSTAMP:20260423T064255
CREATED:20220728T180319Z
LAST-MODIFIED:20220728T180319Z
UID:1647-1663057800-1663072200@gndc.org
SUMMARY:safeTALK\, Suicide Prevention Training - Glasgow
DESCRIPTION:When a neighbor’s tractor gets stuck or their cattle get loose\, you don’t hesitate to help. But when you see a family member\, friend\, or client stuck in a rut—and possibly suicidal—it can be daunting to try and help and can leave you feeling powerless. Suicide is a significant public health issue in Montana. It involves the tragic loss of human life and causes agonizing grief\, fear\, and confusion in families and communities. The impact can even extend across generations. The Montana Department of Agriculture’s stress assistance program includes Montana-specific initiatives to reduce the negative stigma tied to mental health and connect producers with tangible\, effective resources such as this safeTALK Suicide Prevention Training through Livingworks. This training teaches in-depth skills you can learn in half a day. You’ll learn how to recognize someone having thoughts of suicide\, how to engage them\, and how to make sure they get help. This evidence-based training is effective for people as young as 15 years old. Each session will include a unit specially designed to address the stigma associated with suicide and mental illness among farmers\, ranchers\, and agricultural workers. \nLEARNING OBJECTIVES: This training challenges attitudes that inhibit open talk about suicide and will teach you to: \n\nRecognize a person who might be having thoughts of suicide.\nLearn how to address the stigma associated with suicide and mental illness.\nEngage people at risk of suicide in direct and open talk about it.\nListen to their feelings about suicide to show that they are taken seriously.\nMove quickly to connect the at-risk with someone trained in suicide intervention.\n\nWHO SHOULD ATTEND? Farmers\, ranchers\, lenders\, mediators\, agency staff\, clergy\, educators\, veterinarians\, health care and social service providers\, agricultural advisors\, business people\, and anyone else who interacts with people who farm. \nTHIS TRAINING IS FREE. Pre-registration is required. Enrollment at each location is limited to 30. Lunch will be provided after the training.  \nFAQs \nI’ve been to a QPR suicide prevention workshop. Should I attend safeTalk? QPR (Question\, Persuade\, and Refer)\, is a 1-hour introductory-level training that increases awareness about suicide. safeTALK is a more in-depth and comprehensive training that offers both education and experiential learning. safeTALK also addresses the stigma issues related to suicide and mental health. Are CEUs available? We will provide you with a certificate of attendance that you can use to self-certify with your licensing board or organization.
URL:https://gndc.org/gndc-event/safetalk-suicide-prevention-training-glasgow/
LOCATION:Cottonwood Inn & Suites\, 54250 US Highway 2\, Glasgow\, MT\, 59230\, United States
ATTACH;FMTTYPE=image/png:https://gndc.org/wp-content/uploads/2022/07/LW_safeTALK_DARK.png
ORGANIZER;CN="Great Northern Development":MAILTO:info@gndc.org
END:VEVENT
BEGIN:VEVENT
DTSTART;TZID=America/Denver:20220914T083000
DTEND;TZID=America/Denver:20220914T123000
DTSTAMP:20260423T064255
CREATED:20220728T180459Z
LAST-MODIFIED:20220728T180828Z
UID:1650-1663144200-1663158600@gndc.org
SUMMARY:safeTALK\, Suicide Prevention Training - Glendive
DESCRIPTION:When a neighbor’s tractor gets stuck or their cattle get loose\, you don’t hesitate to help. But when you see a family member\, friend\, or client stuck in a rut—and possibly suicidal—it can be daunting to try and help and can leave you feeling powerless. Suicide is a significant public health issue in Montana. It involves the tragic loss of human life and causes agonizing grief\, fear\, and confusion in families and communities. The impact can even extend across generations. The Montana Department of Agriculture’s stress assistance program includes Montana-specific initiatives to reduce the negative stigma tied to mental health and connect producers with tangible\, effective resources such as this safeTALK Suicide Prevention Training through Livingworks. This training teaches in-depth skills you can learn in half a day. You’ll learn how to recognize someone having thoughts of suicide\, how to engage them\, and how to make sure they get help. This evidence-based training is effective for people as young as 15 years old. Each session will include a unit specially designed to address the stigma associated with suicide and mental illness among farmers\, ranchers\, and agricultural workers. \nLEARNING OBJECTIVES: This training challenges attitudes that inhibit open talk about suicide and will teach you to: \n\nRecognize a person who might be having thoughts of suicide.\nLearn how to address the stigma associated with suicide and mental illness.\nEngage people at risk of suicide in direct and open talk about it.\nListen to their feelings about suicide to show that they are taken seriously.\nMove quickly to connect the at-risk with someone trained in suicide intervention.\n\nWHO SHOULD ATTEND? Farmers\, ranchers\, lenders\, mediators\, agency staff\, clergy\, educators\, veterinarians\, health care and social service providers\, agricultural advisors\, business people\, and anyone else who interacts with people who farm. \nTHIS TRAINING IS FREE. Pre-registration is required. Enrollment at each location is limited to 30. Lunch will be provided after the training.  \nFAQs \nI’ve been to a QPR suicide prevention workshop. Should I attend safeTalk? QPR (Question\, Persuade\, and Refer)\, is a 1-hour introductory-level training that increases awareness about suicide. safeTALK is a more in-depth and comprehensive training that offers both education and experiential learning. safeTALK also addresses the stigma issues related to suicide and mental health. Are CEUs available? We will provide you with a certificate of attendance that you can use to self-certify with your licensing board or organization.
URL:https://gndc.org/gndc-event/safetalk-suicide-prevention-training-glendive/
LOCATION:Ivy Society Building\, 323 East Barry Street\, Glendive\, MT\, 59330
ATTACH;FMTTYPE=image/png:https://gndc.org/wp-content/uploads/2022/07/LW_safeTALK_DARK.png
ORGANIZER;CN="Great Northern Development":MAILTO:info@gndc.org
END:VEVENT
BEGIN:VEVENT
DTSTART;TZID=America/Denver:20220920T090000
DTEND;TZID=America/Denver:20220920T150000
DTSTAMP:20260423T064255
CREATED:20220209T220240Z
LAST-MODIFIED:20220209T221445Z
UID:1406-1663664400-1663686000@gndc.org
SUMMARY:Quickbooks For All - ONLINE VERSION - Glasgow
DESCRIPTION:Are you new to bookkeeping or want to brush up on your QuickBooks skills?\n\nThen join QuickBooks Pro Advisor Wendy Weissman\, owner of Wendy J Weissman\, CPA PC in Glasgow on the 20th of September QuickBooks\, as she takes you through the foundational elements of ONLINE Quickbooks\, so you’re more efficient in entering revenue and expenses (and better able to communicate with your accountant come tax time!)\n\nThis class is for the QuickBooks ONLINE Version. The first half of each day will be taught classroom style from 9:00 – 3:00 PM and will step through accounting terminology and the basics of the QuickBooks Program. Even if you’re an experienced user\, this session will show data-entry shortcuts and talk about the inner workings of QuickBooks.\n\n\nThe afternoon will be set aside for 60-minute one-on-one sessions with Wendy from 3:00 – 5:00 PM. First come\, first serve\, call to reserve your spot today! For questions\, booking your one-on-one or more information\, email quincy@gndc.org.\n\nThe fee is $15 for lunch\, so register today at https://mtsbdc.ecenterdirect.com/events/5328\n\n*We reserve the right to cancel a class if minimum enrollments are not met.
URL:https://gndc.org/gndc-event/quickbooks-for-all-online-version-glasgow/
LOCATION:Cottonwood Inn & Suites\, 54250 US Highway 2\, Glasgow\, MT\, 59230\, United States
CATEGORIES:SBDC Yearly Calendar
ATTACH;FMTTYPE=image/png:https://gndc.org/wp-content/uploads/2022/02/Quickbooks-September.png
ORGANIZER;CN="Great Northern Development":MAILTO:info@gndc.org
END:VEVENT
BEGIN:VEVENT
DTSTART;TZID=America/Denver:20220921T090000
DTEND;TZID=America/Denver:20220921T150000
DTSTAMP:20260423T064255
CREATED:20220209T221343Z
LAST-MODIFIED:20220209T221344Z
UID:1410-1663750800-1663772400@gndc.org
SUMMARY:Quickbooks For All - DESKTOP VERSION - Scobey
DESCRIPTION:Are you new to bookkeeping or want to brush up on your QuickBooks skills? \nThen join QuickBooks Pro Advisor Wendy Weissman\, owner of Wendy J Weissman\, CPA PC in Scobey on the 21st September for QuickBooks\, as she takes you through the foundational elements of DESKTOP Quickbooks\, so you’re more efficient in entering revenue and expenses (and better able to communicate with your accountant come tax time!) \nThis class is for the QuickBooks DESKTOP Version. The first half of each day will be taught classroom style from 9:00 – 3:00 PM and will step through accounting terminology and the basics of the QuickBooks Program. Even if you’re an experienced user\, this session will show data-entry shortcuts and talk about the inner workings of QuickBooks. \n\nThe afternoon will be set aside for 60-minute one-on-one sessions with Wendy from 3:00 – 5:00 PM.  ?First come\, first serve\, call to reserve your spot today! For questions\, booking your one-on-one or more information\, email quincy@gndc.org. \nThe fee is $15 for lunch\, so register today at https://mtsbdc.ecenterdirect.com/events/5329 \n*We reserve the right to cancel a class if minimum enrollments are not met.
URL:https://gndc.org/gndc-event/quickbooks-for-all-desktop-version-scobey/
CATEGORIES:SBDC Yearly Calendar
ATTACH;FMTTYPE=image/png:https://gndc.org/wp-content/uploads/2022/02/Quickbooks-September.png
END:VEVENT
BEGIN:VEVENT
DTSTART;TZID=America/Denver:20220922T090000
DTEND;TZID=America/Denver:20220922T150000
DTSTAMP:20260423T064255
CREATED:20220209T223409Z
LAST-MODIFIED:20220209T223409Z
UID:1412-1663837200-1663858800@gndc.org
SUMMARY:Quickbooks For All - DESKTOP VERSION - Circle
DESCRIPTION:Are you new to bookkeeping or want to brush up on your QuickBooks skills? \nThen join QuickBooks Pro Advisor Wendy Weissman\, owner of Wendy J Weissman\, CPA PC in Circle on the 22nd of September for QuickBooks\, as she takes you through the foundational elements of DESKTOP Quickbooks\, so you’re more efficient in entering revenue and expenses (and better able to communicate with your accountant come tax time!) \nThis class is for the QuickBooks DESKTOP Version. The first half of each day will be taught classroom style from 9:00 – 3:00 PM and will step through accounting terminology and the basics of the QuickBooks Program. Even if you’re an experienced user\, this session will show data-entry shortcuts and talk about the inner workings of QuickBooks. \nThe afternoon will be set aside for 60-minute one-on-one sessions with Wendy from 3:00 – 5:00 PM. First come\, first serve\, call to reserve your spot today! For questions\, booking your one-on-one or more information\, email quincy@gndc.org. \nThe fee is $15 for lunch\, so register today at https://mtsbdc.ecenterdirect.com/events/5330 \n*We reserve the right to cancel a class if minimum enrollments are not met.
URL:https://gndc.org/gndc-event/quickbooks-for-all-desktop-version-circle/
LOCATION:McCone County Fairgrounds\, 14 Fairgrounds Rd.\, Circle\, MT\, 59215\, United States
CATEGORIES:SBDC Yearly Calendar
ATTACH;FMTTYPE=image/png:https://gndc.org/wp-content/uploads/2022/02/Quickbooks-September.png
ORGANIZER;CN="Great Northern Development":MAILTO:info@gndc.org
END:VEVENT
END:VCALENDAR